BEGIN:VCALENDAR
VERSION:2.0
PRODID:-//Proffsgymnasiet - ECPv6.15.20//NONSGML v1.0//EN
CALSCALE:GREGORIAN
METHOD:PUBLISH
X-WR-CALNAME:Proffsgymnasiet
X-ORIGINAL-URL:https://proffsgymnasiet.se
X-WR-CALDESC:Händelser för Proffsgymnasiet
REFRESH-INTERVAL;VALUE=DURATION:PT1H
X-Robots-Tag:noindex
X-PUBLISHED-TTL:PT1H
BEGIN:VTIMEZONE
TZID:Europe/Stockholm
BEGIN:DAYLIGHT
TZOFFSETFROM:+0100
TZOFFSETTO:+0200
TZNAME:CEST
DTSTART:20230326T010000
END:DAYLIGHT
BEGIN:STANDARD
TZOFFSETFROM:+0200
TZOFFSETTO:+0100
TZNAME:CET
DTSTART:20231029T010000
END:STANDARD
BEGIN:DAYLIGHT
TZOFFSETFROM:+0100
TZOFFSETTO:+0200
TZNAME:CEST
DTSTART:20240331T010000
END:DAYLIGHT
BEGIN:STANDARD
TZOFFSETFROM:+0200
TZOFFSETTO:+0100
TZNAME:CET
DTSTART:20241027T010000
END:STANDARD
BEGIN:DAYLIGHT
TZOFFSETFROM:+0100
TZOFFSETTO:+0200
TZNAME:CEST
DTSTART:20250330T010000
END:DAYLIGHT
BEGIN:STANDARD
TZOFFSETFROM:+0200
TZOFFSETTO:+0100
TZNAME:CET
DTSTART:20251026T010000
END:STANDARD
END:VTIMEZONE
BEGIN:VEVENT
DTSTART;TZID=Europe/Stockholm:20240815T084500
DTEND;TZID=Europe/Stockholm:20240815T160000
DTSTAMP:20260425T181936
CREATED:20240808T115450Z
LAST-MODIFIED:20240808T120040Z
UID:238977-1723711500-1723737600@proffsgymnasiet.se
SUMMARY:Läsårsstart ÅK 1
DESCRIPTION:Åk 1 startar den 15 augusti kl 08:45 \nVälkommen!
URL:https://proffsgymnasiet.se/event/lasarsstart-ak-1/
LOCATION:Proffsgymnasiet\, Berglundavägen 3B\, Örebro\, 70236\, Sverige
ATTACH;FMTTYPE=image/jpeg:https://proffsgymnasiet.se/wp-content/uploads/2023/01/proffsgymnasiet-herobild.jpg
ORGANIZER;CN="Proffsgymnasiet":MAILTO:info@proffsgymnasiet.se
END:VEVENT
BEGIN:VEVENT
DTSTART;TZID=Europe/Stockholm:20240819T083000
DTEND;TZID=Europe/Stockholm:20240819T160000
DTSTAMP:20260425T181936
CREATED:20240808T115633Z
LAST-MODIFIED:20240808T120036Z
UID:238981-1724056200-1724083200@proffsgymnasiet.se
SUMMARY:Läsårsstart ÅK 2 & 3
DESCRIPTION:Åk 2 och  3 startar den 19 augusti kl 08:30 \nVälkommen!
URL:https://proffsgymnasiet.se/event/lasarsstart-ak-2-3/
LOCATION:Proffsgymnasiet\, Berglundavägen 3B\, Örebro\, 70236\, Sverige
ATTACH;FMTTYPE=image/jpeg:https://proffsgymnasiet.se/wp-content/uploads/2023/01/proffsgymnasiet-herobild.jpg
ORGANIZER;CN="Proffsgymnasiet":MAILTO:info@proffsgymnasiet.se
END:VEVENT
END:VCALENDAR